BEGIN:VCALENDAR
VERSION:2.0
PRODID:-//The Horse Protection League - ECPv6.15.20//NONSGML v1.0//EN
CALSCALE:GREGORIAN
METHOD:PUBLISH
X-WR-CALNAME:The Horse Protection League
X-ORIGINAL-URL:https://www.thehpl.org
X-WR-CALDESC:Events for The Horse Protection League
REFRESH-INTERVAL;VALUE=DURATION:PT1H
X-Robots-Tag:noindex
X-PUBLISHED-TTL:PT1H
BEGIN:VTIMEZONE
TZID:America/Denver
BEGIN:DAYLIGHT
TZOFFSETFROM:-0700
TZOFFSETTO:-0600
TZNAME:MDT
DTSTART:20240310T090000
END:DAYLIGHT
BEGIN:STANDARD
TZOFFSETFROM:-0600
TZOFFSETTO:-0700
TZNAME:MST
DTSTART:20241103T080000
END:STANDARD
BEGIN:DAYLIGHT
TZOFFSETFROM:-0700
TZOFFSETTO:-0600
TZNAME:MDT
DTSTART:20250309T090000
END:DAYLIGHT
BEGIN:STANDARD
TZOFFSETFROM:-0600
TZOFFSETTO:-0700
TZNAME:MST
DTSTART:20251102T080000
END:STANDARD
BEGIN:DAYLIGHT
TZOFFSETFROM:-0700
TZOFFSETTO:-0600
TZNAME:MDT
DTSTART:20260308T090000
END:DAYLIGHT
BEGIN:STANDARD
TZOFFSETFROM:-0600
TZOFFSETTO:-0700
TZNAME:MST
DTSTART:20261101T080000
END:STANDARD
END:VTIMEZONE
BEGIN:VEVENT
DTSTART;TZID=America/Denver:20251004T100000
DTEND;TZID=America/Denver:20251004T113000
DTSTAMP:20260423T130838
CREATED:20250915T172818Z
LAST-MODIFIED:20250915T172818Z
UID:8617-1759572000-1759577400@www.thehpl.org
SUMMARY:October Volunteer Orientation
DESCRIPTION:The October new volunteer orientation will be held at 10am on Saturday\, October 4th. Please fill out an application ahead of time at https://www.thehpl.org/volunteer-or-visit/ \nIf you have any questions\, please contact our volunteer coordinator at volunteercoordinator@thehpl.org
URL:https://www.thehpl.org/event/october-volunteer-orientation/
LOCATION:HPL Ranch\, 17999 W. 60th Ave.\, Arvada\, 80403\, United States
ORGANIZER;CN="The Horse Protection League":MAILTO:admin@thehorseprotectionleague.org
END:VEVENT
BEGIN:VEVENT
DTSTART;TZID=America/Denver:20251005T140000
DTEND;TZID=America/Denver:20251005T163000
DTSTAMP:20260423T130838
CREATED:20250915T172637Z
LAST-MODIFIED:20250915T172904Z
UID:8615-1759672800-1759681800@www.thehpl.org
SUMMARY:Paint Your Pet Fundraiser
DESCRIPTION:Email a photo of your pet (the closer up and charismatic the better!) at least a week before the event so that our artist can trace it onto a canvas and be ready to teach you to bring your best friend to life as a painting For $60\, all materials and instruction provided. No experience necessary! Register atShow up ready to be creative and have fun! \nSign up at https://www.eventbrite.com/e/paint-your-pet-fundraiser-the-horse-protection-league-tickets-1661004502179?utm-campaign=social&utm-content=attendeeshare&utm-medium=discovery&utm-term=listing&utm-source=cp&aff=ebdsshcopyurl
URL:https://www.thehpl.org/event/paint-your-pet-fundraiser/
LOCATION:HPL Ranch\, 17999 W. 60th Ave.\, Arvada\, 80403\, United States
ORGANIZER;CN="The Horse Protection League":MAILTO:admin@thehorseprotectionleague.org
END:VEVENT
BEGIN:VEVENT
DTSTART;TZID=America/Denver:20251010T100000
DTEND;TZID=America/Denver:20251010T160000
DTSTAMP:20260423T130838
CREATED:20250915T173159Z
LAST-MODIFIED:20250915T173159Z
UID:8621-1760090400-1760112000@www.thehpl.org
SUMMARY:Tack Sale
DESCRIPTION:Looking for a good deal? Please check out our Fall Tack Sale on Friday and Saturday\, October 10 and 11\, 10am-4pm both days!\nWe’ll have tons of winter blankets\, plus\, western and all purpose saddles bareback pads\, stirrup irons\, leather chaps\, half chaps\, splint boots\, bits\, muck buckets\, plastic grooming totes\, $5 all purpose and dressage saddle pads\, polo wraps\, original easy boots\, lead ropes\, nylon halters\, English and Western tack\, dressage tack\, wood saddle stands\, riding clothes crops\, cowboy boots\, saddle bags\, buckets feed tubs\, shipping boots books\, storage containers\, wood and plastic tack trunks\, and much more!\nContact Franci with any questions:303-570-4402 OR mtngirl09@gmail.com
URL:https://www.thehpl.org/event/tack-sale-3/
LOCATION:HPL Ranch\, 17999 W. 60th Ave.\, Arvada\, 80403\, United States
CATEGORIES:Tack Sale
END:VEVENT
BEGIN:VEVENT
DTSTART;TZID=America/Denver:20251011T100000
DTEND;TZID=America/Denver:20251011T160000
DTSTAMP:20260423T130838
CREATED:20250915T173234Z
LAST-MODIFIED:20250915T173234Z
UID:8623-1760176800-1760198400@www.thehpl.org
SUMMARY:Tack Sale
DESCRIPTION:Looking for a good deal? Please check out our Fall Tack Sale on Friday and Saturday\, October 10 and 11\, 10am-4pm both days!\nWe’ll have tons of winter blankets\, plus\, western and all purpose saddles bareback pads\, stirrup irons\, leather chaps\, half chaps\, splint boots\, bits\, muck buckets\, plastic grooming totes\, $5 all purpose and dressage saddle pads\, polo wraps\, original easy boots\, lead ropes\, nylon halters\, English and Western tack\, dressage tack\, wood saddle stands\, riding clothes crops\, cowboy boots\, saddle bags\, buckets feed tubs\, shipping boots books\, storage containers\, wood and plastic tack trunks\, and much more!\nContact Franci with any questions:303-570-4402 OR mtngirl09@gmail.com
URL:https://www.thehpl.org/event/tack-sale-4/
LOCATION:HPL Ranch\, 17999 W. 60th Ave.\, Arvada\, 80403\, United States
END:VEVENT
BEGIN:VEVENT
DTSTART;TZID=America/Denver:20251011T140000
DTEND;TZID=America/Denver:20251011T210000
DTSTAMP:20260423T130838
CREATED:20250915T173049Z
LAST-MODIFIED:20250915T173049Z
UID:8619-1760191200-1760216400@www.thehpl.org
SUMMARY:Harvest Fest
DESCRIPTION:Come join us at our annual Harvest Fest! We’ll have music\, food\, and beverages plus games and activities!
URL:https://www.thehpl.org/event/harvest-fest-2/
LOCATION:HPL Ranch\, 17999 W. 60th Ave.\, Arvada\, 80403\, United States
ORGANIZER;CN="The Horse Protection League":MAILTO:admin@thehorseprotectionleague.org
END:VEVENT
END:VCALENDAR