BEGIN:VCALENDAR
VERSION:2.0
PRODID:-//The Horse Protection League - ECPv6.15.20//NONSGML v1.0//EN
CALSCALE:GREGORIAN
METHOD:PUBLISH
X-WR-CALNAME:The Horse Protection League
X-ORIGINAL-URL:https://www.thehpl.org
X-WR-CALDESC:Events for The Horse Protection League
REFRESH-INTERVAL;VALUE=DURATION:PT1H
X-Robots-Tag:noindex
X-PUBLISHED-TTL:PT1H
BEGIN:VTIMEZONE
TZID:America/Denver
BEGIN:DAYLIGHT
TZOFFSETFROM:-0700
TZOFFSETTO:-0600
TZNAME:MDT
DTSTART:20150308T090000
END:DAYLIGHT
BEGIN:STANDARD
TZOFFSETFROM:-0600
TZOFFSETTO:-0700
TZNAME:MST
DTSTART:20151101T080000
END:STANDARD
BEGIN:DAYLIGHT
TZOFFSETFROM:-0700
TZOFFSETTO:-0600
TZNAME:MDT
DTSTART:20160313T090000
END:DAYLIGHT
BEGIN:STANDARD
TZOFFSETFROM:-0600
TZOFFSETTO:-0700
TZNAME:MST
DTSTART:20161106T080000
END:STANDARD
BEGIN:DAYLIGHT
TZOFFSETFROM:-0700
TZOFFSETTO:-0600
TZNAME:MDT
DTSTART:20170312T090000
END:DAYLIGHT
BEGIN:STANDARD
TZOFFSETFROM:-0600
TZOFFSETTO:-0700
TZNAME:MST
DTSTART:20171105T080000
END:STANDARD
END:VTIMEZONE
BEGIN:VEVENT
DTSTART;VALUE=DATE:20161012
DTEND;VALUE=DATE:20161013
DTSTAMP:20260423T120405
CREATED:20160213T180604Z
LAST-MODIFIED:20160213T180604Z
UID:1399-1476230400-1476316799@www.thehpl.org
SUMMARY:Volunteer Day\, 9 a.m. - 2 p.m.
DESCRIPTION:
URL:https://www.thehpl.org/event/volunteer-day-9-a-m-2-p-m-69/
END:VEVENT
BEGIN:VEVENT
DTSTART;VALUE=DATE:20161008
DTEND;VALUE=DATE:20161009
DTSTAMP:20260423T120405
CREATED:20160213T180512Z
LAST-MODIFIED:20160213T180512Z
UID:1398-1475884800-1475971199@www.thehpl.org
SUMMARY:Volunteer Day\, 9 a.m. - 2 p.m.
DESCRIPTION:
URL:https://www.thehpl.org/event/volunteer-day-9-a-m-2-p-m-68/
END:VEVENT
BEGIN:VEVENT
DTSTART;VALUE=DATE:20161007
DTEND;VALUE=DATE:20161009
DTSTAMP:20260423T120405
CREATED:20160213T171056Z
LAST-MODIFIED:20160213T171056Z
UID:1326-1475798400-1475971199@www.thehpl.org
SUMMARY:Fall Tack Sale
DESCRIPTION:
URL:https://www.thehpl.org/event/fall-tack-sale/
END:VEVENT
BEGIN:VEVENT
DTSTART;VALUE=DATE:20161005
DTEND;VALUE=DATE:20161006
DTSTAMP:20260423T120405
CREATED:20160213T180447Z
LAST-MODIFIED:20160213T180447Z
UID:1397-1475625600-1475711999@www.thehpl.org
SUMMARY:Volunteer Day\, 9 a.m. - 2 p.m.
DESCRIPTION:
URL:https://www.thehpl.org/event/volunteer-day-9-a-m-2-p-m-67/
END:VEVENT
BEGIN:VEVENT
DTSTART;VALUE=DATE:20161001
DTEND;VALUE=DATE:20161002
DTSTAMP:20260423T120405
CREATED:20160213T180032Z
LAST-MODIFIED:20160213T180032Z
UID:1396-1475280000-1475366399@www.thehpl.org
SUMMARY:Volunteer Day\, 9 a.m. - 2 p.m.
DESCRIPTION:
URL:https://www.thehpl.org/event/volunteer-day-9-a-m-2-p-m-66/
END:VEVENT
BEGIN:VEVENT
DTSTART;VALUE=DATE:20160928
DTEND;VALUE=DATE:20160929
DTSTAMP:20260423T120405
CREATED:20160213T175517Z
LAST-MODIFIED:20160213T175517Z
UID:1394-1475020800-1475107199@www.thehpl.org
SUMMARY:Volunteer Day\, 9 a.m. - 2 p.m.
DESCRIPTION:
URL:https://www.thehpl.org/event/volunteer-day-9-a-m-2-p-m-65/
END:VEVENT
BEGIN:VEVENT
DTSTART;TZID=America/Denver:20160924T080000
DTEND;TZID=America/Denver:20160924T170000
DTSTAMP:20260423T120405
CREATED:20160213T175447Z
LAST-MODIFIED:20160213T175447Z
UID:1393-1474704000-1474736400@www.thehpl.org
SUMMARY:Volunteer Day\, 9 a.m. - 2 p.m.
DESCRIPTION:
URL:https://www.thehpl.org/event/volunteer-day-9-a-m-2-p-m-64/
END:VEVENT
BEGIN:VEVENT
DTSTART;VALUE=DATE:20160921
DTEND;VALUE=DATE:20160922
DTSTAMP:20260423T120405
CREATED:20160213T175420Z
LAST-MODIFIED:20160213T175420Z
UID:1392-1474416000-1474502399@www.thehpl.org
SUMMARY:Volunteer Day\, 9 a.m. - 2 p.m.
DESCRIPTION:
URL:https://www.thehpl.org/event/volunteer-day-9-a-m-2-p-m-63/
END:VEVENT
BEGIN:VEVENT
DTSTART;VALUE=DATE:20160917
DTEND;VALUE=DATE:20160918
DTSTAMP:20260423T120405
CREATED:20160213T175347Z
LAST-MODIFIED:20160213T175347Z
UID:1391-1474070400-1474156799@www.thehpl.org
SUMMARY:Volunteer Day\, 9 a.m. - 2 p.m.
DESCRIPTION:
URL:https://www.thehpl.org/event/volunteer-day-9-a-m-2-p-m-62/
END:VEVENT
BEGIN:VEVENT
DTSTART;TZID=America/Denver:20160915T173000
DTEND;TZID=America/Denver:20160915T213000
DTSTAMP:20260423T120405
CREATED:20160813T004646Z
LAST-MODIFIED:20160813T004646Z
UID:1595-1473960600-1473975000@www.thehpl.org
SUMMARY:Opening Night Reception Art for Horses
DESCRIPTION:
URL:https://www.thehpl.org/event/opening-night-reception-art-for-horses/
LOCATION:Pace Center\, 20000 Pikes Peak Ave.\, Parker\, CO\, 80138\, United States
END:VEVENT
BEGIN:VEVENT
DTSTART;VALUE=DATE:20160914
DTEND;VALUE=DATE:20160915
DTSTAMP:20260423T120405
CREATED:20160213T175316Z
LAST-MODIFIED:20160213T175316Z
UID:1390-1473811200-1473897599@www.thehpl.org
SUMMARY:Volunteer Day\, 9 a.m. - 2 p.m.
DESCRIPTION:
URL:https://www.thehpl.org/event/volunteer-day-9-a-m-2-p-m-61/
END:VEVENT
BEGIN:VEVENT
DTSTART;VALUE=DATE:20160914
DTEND;VALUE=DATE:20160915
DTSTAMP:20260423T120405
CREATED:20160213T175200Z
LAST-MODIFIED:20160213T175236Z
UID:1389-1473811200-1473897599@www.thehpl.org
SUMMARY:Volunteer Day\, 9 a.m. - 2 p.m.
DESCRIPTION:
URL:https://www.thehpl.org/event/volunteer-day-9-a-m-2-p-m-60/
END:VEVENT
BEGIN:VEVENT
DTSTART;VALUE=DATE:20160910
DTEND;VALUE=DATE:20161031
DTSTAMP:20260423T120405
CREATED:20160813T004010Z
LAST-MODIFIED:20160813T004010Z
UID:1593-1473465600-1477871999@www.thehpl.org
SUMMARY:Art For Horses
DESCRIPTION:
URL:https://www.thehpl.org/event/art-for-horses/
LOCATION:Pace Center\, 20000 Pikes Peak Ave.\, Parker\, CO\, 80138\, United States
END:VEVENT
BEGIN:VEVENT
DTSTART;VALUE=DATE:20160910
DTEND;VALUE=DATE:20160911
DTSTAMP:20260423T120405
CREATED:20160213T175126Z
LAST-MODIFIED:20160213T175126Z
UID:1388-1473465600-1473551999@www.thehpl.org
SUMMARY:Volunteer Day\, 9 a.m. - 2 p.m.
DESCRIPTION:
URL:https://www.thehpl.org/event/volunteer-day-9-a-m-2-p-m-59/
END:VEVENT
BEGIN:VEVENT
DTSTART;VALUE=DATE:20160907
DTEND;VALUE=DATE:20160908
DTSTAMP:20260423T120405
CREATED:20160213T175059Z
LAST-MODIFIED:20160213T175059Z
UID:1387-1473206400-1473292799@www.thehpl.org
SUMMARY:Volunteer Day\, 9 a.m. - 2 p.m.
DESCRIPTION:
URL:https://www.thehpl.org/event/volunteer-day-9-a-m-2-p-m-58/
END:VEVENT
BEGIN:VEVENT
DTSTART;VALUE=DATE:20160903
DTEND;VALUE=DATE:20160904
DTSTAMP:20260423T120405
CREATED:20160213T175012Z
LAST-MODIFIED:20160213T175012Z
UID:1386-1472860800-1472947199@www.thehpl.org
SUMMARY:Volunteer Day\, 9 a.m. - 2 p.m.
DESCRIPTION:
URL:https://www.thehpl.org/event/volunteer-day-9-a-m-2-p-m-57/
END:VEVENT
BEGIN:VEVENT
DTSTART;VALUE=DATE:20160831
DTEND;VALUE=DATE:20160901
DTSTAMP:20260423T120405
CREATED:20160213T174942Z
LAST-MODIFIED:20160213T174942Z
UID:1385-1472601600-1472687999@www.thehpl.org
SUMMARY:Volunteer Day\, 9 a.m. - 2 p.m.
DESCRIPTION:
URL:https://www.thehpl.org/event/volunteer-day-9-a-m-2-p-m-56/
END:VEVENT
BEGIN:VEVENT
DTSTART;VALUE=DATE:20160827
DTEND;VALUE=DATE:20160828
DTSTAMP:20260423T120405
CREATED:20160213T174917Z
LAST-MODIFIED:20160213T174917Z
UID:1384-1472256000-1472342399@www.thehpl.org
SUMMARY:Volunteer Day\, 9 a.m. - 2 p.m.
DESCRIPTION:
URL:https://www.thehpl.org/event/volunteer-day-9-a-m-2-p-m-55/
END:VEVENT
BEGIN:VEVENT
DTSTART;VALUE=DATE:20160824
DTEND;VALUE=DATE:20160825
DTSTAMP:20260423T120405
CREATED:20160213T174847Z
LAST-MODIFIED:20160213T174847Z
UID:1383-1471996800-1472083199@www.thehpl.org
SUMMARY:Volunteer Day\, 9 a.m. - 2 p.m.
DESCRIPTION:
URL:https://www.thehpl.org/event/volunteer-day-9-a-m-2-p-m-54/
END:VEVENT
BEGIN:VEVENT
DTSTART;VALUE=DATE:20160821
DTEND;VALUE=DATE:20160822
DTSTAMP:20260423T120405
CREATED:20160213T170908Z
LAST-MODIFIED:20160213T170944Z
UID:1325-1471737600-1471823999@www.thehpl.org
SUMMARY:HPL Appreciation Day-22nd Birthday Celebration
DESCRIPTION:
URL:https://www.thehpl.org/event/hpl-appreciation-day/
END:VEVENT
BEGIN:VEVENT
DTSTART;VALUE=DATE:20160820
DTEND;VALUE=DATE:20160821
DTSTAMP:20260423T120405
CREATED:20160213T174804Z
LAST-MODIFIED:20160213T174804Z
UID:1382-1471651200-1471737599@www.thehpl.org
SUMMARY:Volunteer Day\, 9 a.m. - 2 p.m.
DESCRIPTION:
URL:https://www.thehpl.org/event/volunteer-day-9-a-m-2-p-m-53/
END:VEVENT
BEGIN:VEVENT
DTSTART;VALUE=DATE:20160817
DTEND;VALUE=DATE:20160818
DTSTAMP:20260423T120405
CREATED:20160213T174730Z
LAST-MODIFIED:20160213T174730Z
UID:1381-1471392000-1471478399@www.thehpl.org
SUMMARY:Volunteer Day\, 9 a.m. - 2 p.m.
DESCRIPTION:
URL:https://www.thehpl.org/event/volunteer-day-9-a-m-2-p-m-52/
END:VEVENT
BEGIN:VEVENT
DTSTART;VALUE=DATE:20160813
DTEND;VALUE=DATE:20160814
DTSTAMP:20260423T120405
CREATED:20160213T174705Z
LAST-MODIFIED:20160213T174705Z
UID:1380-1471046400-1471132799@www.thehpl.org
SUMMARY:Volunteer Day\, 9 a.m. - 2 p.m.
DESCRIPTION:
URL:https://www.thehpl.org/event/volunteer-day-9-a-m-2-p-m-51/
END:VEVENT
BEGIN:VEVENT
DTSTART;VALUE=DATE:20160810
DTEND;VALUE=DATE:20160811
DTSTAMP:20260423T120405
CREATED:20160213T174634Z
LAST-MODIFIED:20160213T174634Z
UID:1379-1470787200-1470873599@www.thehpl.org
SUMMARY:Volunteer Day\, 9 a.m. - 2 p.m.
DESCRIPTION:
URL:https://www.thehpl.org/event/volunteer-day-9-a-m-2-p-m-50/
END:VEVENT
BEGIN:VEVENT
DTSTART;VALUE=DATE:20160806
DTEND;VALUE=DATE:20160807
DTSTAMP:20260423T120405
CREATED:20160213T174611Z
LAST-MODIFIED:20160213T174611Z
UID:1378-1470441600-1470527999@www.thehpl.org
SUMMARY:Volunteer Day\, 9 a.m. - 2 p.m.
DESCRIPTION:
URL:https://www.thehpl.org/event/volunteer-day-9-a-m-2-p-m-49/
END:VEVENT
BEGIN:VEVENT
DTSTART;VALUE=DATE:20160803
DTEND;VALUE=DATE:20160804
DTSTAMP:20260423T120405
CREATED:20160213T174544Z
LAST-MODIFIED:20160213T174544Z
UID:1377-1470182400-1470268799@www.thehpl.org
SUMMARY:Volunteer Day\, 9 a.m. - 2 p.m.
DESCRIPTION:
URL:https://www.thehpl.org/event/volunteer-day-9-a-m-2-p-m-48/
END:VEVENT
BEGIN:VEVENT
DTSTART;VALUE=DATE:20160730
DTEND;VALUE=DATE:20160731
DTSTAMP:20260423T120405
CREATED:20160213T174448Z
LAST-MODIFIED:20160213T174448Z
UID:1376-1469836800-1469923199@www.thehpl.org
SUMMARY:Volunteer Day\, 9 a.m. - 2 p.m.
DESCRIPTION:
URL:https://www.thehpl.org/event/volunteer-day-9-a-m-2-p-m-47/
END:VEVENT
BEGIN:VEVENT
DTSTART;VALUE=DATE:20160727
DTEND;VALUE=DATE:20160728
DTSTAMP:20260423T120405
CREATED:20160213T174423Z
LAST-MODIFIED:20160213T174423Z
UID:1375-1469577600-1469663999@www.thehpl.org
SUMMARY:Volunteer Day\, 9 a.m. - 2 p.m.
DESCRIPTION:
URL:https://www.thehpl.org/event/volunteer-day-9-a-m-2-p-m-46/
END:VEVENT
BEGIN:VEVENT
DTSTART;VALUE=DATE:20160723
DTEND;VALUE=DATE:20160724
DTSTAMP:20260423T120405
CREATED:20160213T174358Z
LAST-MODIFIED:20160213T174358Z
UID:1374-1469232000-1469318399@www.thehpl.org
SUMMARY:Volunteer Day\, 9 a.m. - 2 p.m.
DESCRIPTION:
URL:https://www.thehpl.org/event/volunteer-day-9-a-m-2-p-m-45/
END:VEVENT
BEGIN:VEVENT
DTSTART;VALUE=DATE:20160720
DTEND;VALUE=DATE:20160721
DTSTAMP:20260423T120405
CREATED:20160213T174332Z
LAST-MODIFIED:20160213T174332Z
UID:1373-1468972800-1469059199@www.thehpl.org
SUMMARY:Volunteer Day\, 9 a.m. - 2 p.m.
DESCRIPTION:
URL:https://www.thehpl.org/event/volunteer-day-9-a-m-2-p-m-44/
END:VEVENT
END:VCALENDAR