BEGIN:VCALENDAR
VERSION:2.0
PRODID:-//The Horse Protection League - ECPv6.15.20//NONSGML v1.0//EN
CALSCALE:GREGORIAN
METHOD:PUBLISH
X-WR-CALNAME:The Horse Protection League
X-ORIGINAL-URL:https://www.thehpl.org
X-WR-CALDESC:Events for The Horse Protection League
REFRESH-INTERVAL;VALUE=DURATION:PT1H
X-Robots-Tag:noindex
X-PUBLISHED-TTL:PT1H
BEGIN:VTIMEZONE
TZID:America/Denver
BEGIN:DAYLIGHT
TZOFFSETFROM:-0700
TZOFFSETTO:-0600
TZNAME:MDT
DTSTART:20150308T090000
END:DAYLIGHT
BEGIN:STANDARD
TZOFFSETFROM:-0600
TZOFFSETTO:-0700
TZNAME:MST
DTSTART:20151101T080000
END:STANDARD
BEGIN:DAYLIGHT
TZOFFSETFROM:-0700
TZOFFSETTO:-0600
TZNAME:MDT
DTSTART:20160313T090000
END:DAYLIGHT
BEGIN:STANDARD
TZOFFSETFROM:-0600
TZOFFSETTO:-0700
TZNAME:MST
DTSTART:20161106T080000
END:STANDARD
BEGIN:DAYLIGHT
TZOFFSETFROM:-0700
TZOFFSETTO:-0600
TZNAME:MDT
DTSTART:20170312T090000
END:DAYLIGHT
BEGIN:STANDARD
TZOFFSETFROM:-0600
TZOFFSETTO:-0700
TZNAME:MST
DTSTART:20171105T080000
END:STANDARD
END:VTIMEZONE
BEGIN:VEVENT
DTSTART;VALUE=DATE:20161231
DTEND;VALUE=DATE:20170101
DTSTAMP:20260423T131129
CREATED:20160213T182015Z
LAST-MODIFIED:20160213T182015Z
UID:1422-1483142400-1483228799@www.thehpl.org
SUMMARY:Volunteer Day\, 9 a.m. - 2 p.m.
DESCRIPTION:
URL:https://www.thehpl.org/event/volunteer-day-9-a-m-2-p-m-92/
END:VEVENT
BEGIN:VEVENT
DTSTART;VALUE=DATE:20161228
DTEND;VALUE=DATE:20161229
DTSTAMP:20260423T131129
CREATED:20160213T181942Z
LAST-MODIFIED:20160213T181942Z
UID:1421-1482883200-1482969599@www.thehpl.org
SUMMARY:Volunteer Day\, 9 a.m. - 2 p.m.
DESCRIPTION:
URL:https://www.thehpl.org/event/volunteer-day-9-a-m-2-p-m-91/
END:VEVENT
BEGIN:VEVENT
DTSTART;VALUE=DATE:20161224
DTEND;VALUE=DATE:20161225
DTSTAMP:20260423T131129
CREATED:20160213T181824Z
LAST-MODIFIED:20160213T181824Z
UID:1419-1482537600-1482623999@www.thehpl.org
SUMMARY:Volunteer Day\, 9 a.m. - 2 p.m.
DESCRIPTION:
URL:https://www.thehpl.org/event/volunteer-day-9-a-m-2-p-m-89/
END:VEVENT
BEGIN:VEVENT
DTSTART;VALUE=DATE:20161221
DTEND;VALUE=DATE:20161222
DTSTAMP:20260423T131129
CREATED:20160213T181913Z
LAST-MODIFIED:20160213T181913Z
UID:1420-1482278400-1482364799@www.thehpl.org
SUMMARY:Volunteer Day\, 9 a.m. - 2 p.m.
DESCRIPTION:
URL:https://www.thehpl.org/event/volunteer-day-9-a-m-2-p-m-90/
END:VEVENT
BEGIN:VEVENT
DTSTART;VALUE=DATE:20161217
DTEND;VALUE=DATE:20161218
DTSTAMP:20260423T131129
CREATED:20160213T181737Z
LAST-MODIFIED:20160213T181737Z
UID:1418-1481932800-1482019199@www.thehpl.org
SUMMARY:Volunteer Day\, 9 a.m. - 2 p.m.
DESCRIPTION:
URL:https://www.thehpl.org/event/volunteer-day-9-a-m-2-p-m-88/
END:VEVENT
BEGIN:VEVENT
DTSTART;VALUE=DATE:20161214
DTEND;VALUE=DATE:20161215
DTSTAMP:20260423T131129
CREATED:20160213T181708Z
LAST-MODIFIED:20160213T181708Z
UID:1417-1481673600-1481759999@www.thehpl.org
SUMMARY:Volunteer Day\, 9 a.m. - 2 p.m.
DESCRIPTION:
URL:https://www.thehpl.org/event/volunteer-day-9-a-m-2-p-m-87/
END:VEVENT
BEGIN:VEVENT
DTSTART;VALUE=DATE:20161213
DTEND;VALUE=DATE:20161214
DTSTAMP:20260423T131129
CREATED:20160213T171209Z
LAST-MODIFIED:20160213T171209Z
UID:1327-1481587200-1481673599@www.thehpl.org
SUMMARY:Colorado Gives Day
DESCRIPTION:
URL:https://www.thehpl.org/event/colorado-gives-day-2/
END:VEVENT
BEGIN:VEVENT
DTSTART;VALUE=DATE:20161210
DTEND;VALUE=DATE:20161211
DTSTAMP:20260423T131129
CREATED:20160213T181612Z
LAST-MODIFIED:20160213T181612Z
UID:1416-1481328000-1481414399@www.thehpl.org
SUMMARY:Volunteer Day\, 9 a.m. - 2 p.m.
DESCRIPTION:
URL:https://www.thehpl.org/event/volunteer-day-9-a-m-2-p-m-86/
END:VEVENT
BEGIN:VEVENT
DTSTART;VALUE=DATE:20161207
DTEND;VALUE=DATE:20161208
DTSTAMP:20260423T131129
CREATED:20160213T181544Z
LAST-MODIFIED:20160213T181544Z
UID:1415-1481068800-1481155199@www.thehpl.org
SUMMARY:Volunteer Day\, 9 a.m. - 2 p.m.
DESCRIPTION:
URL:https://www.thehpl.org/event/volunteer-day-9-a-m-2-p-m-85/
END:VEVENT
BEGIN:VEVENT
DTSTART;VALUE=DATE:20161203
DTEND;VALUE=DATE:20161204
DTSTAMP:20260423T131129
CREATED:20160213T181503Z
LAST-MODIFIED:20160213T181503Z
UID:1414-1480723200-1480809599@www.thehpl.org
SUMMARY:Volunteer Day\, 9 a.m. - 2 p.m.
DESCRIPTION:
URL:https://www.thehpl.org/event/volunteer-day-9-a-m-2-p-m-84/
END:VEVENT
BEGIN:VEVENT
DTSTART;VALUE=DATE:20161130
DTEND;VALUE=DATE:20161201
DTSTAMP:20260423T131129
CREATED:20160213T181411Z
LAST-MODIFIED:20160213T181411Z
UID:1413-1480464000-1480550399@www.thehpl.org
SUMMARY:Volunteer Day\, 9 a.m. - 2 p.m.
DESCRIPTION:
URL:https://www.thehpl.org/event/volunteer-day-9-a-m-2-p-m-83/
END:VEVENT
BEGIN:VEVENT
DTSTART;VALUE=DATE:20161126
DTEND;VALUE=DATE:20161127
DTSTAMP:20260423T131129
CREATED:20160213T181347Z
LAST-MODIFIED:20160213T181347Z
UID:1412-1480118400-1480204799@www.thehpl.org
SUMMARY:Volunteer Day\, 9 a.m. - 2 p.m.
DESCRIPTION:
URL:https://www.thehpl.org/event/volunteer-day-9-a-m-2-p-m-82/
END:VEVENT
BEGIN:VEVENT
DTSTART;VALUE=DATE:20161123
DTEND;VALUE=DATE:20161124
DTSTAMP:20260423T131129
CREATED:20160213T181319Z
LAST-MODIFIED:20160213T181319Z
UID:1411-1479859200-1479945599@www.thehpl.org
SUMMARY:Volunteer Day\, 9 a.m. - 2 p.m.
DESCRIPTION:
URL:https://www.thehpl.org/event/volunteer-day-9-a-m-2-p-m-81/
END:VEVENT
BEGIN:VEVENT
DTSTART;VALUE=DATE:20161119
DTEND;VALUE=DATE:20161120
DTSTAMP:20260423T131129
CREATED:20160213T181234Z
LAST-MODIFIED:20160213T181234Z
UID:1410-1479513600-1479599999@www.thehpl.org
SUMMARY:Volunteer Day\, 9 a.m. - 2 p.m.
DESCRIPTION:
URL:https://www.thehpl.org/event/volunteer-day-9-a-m-2-p-m-80/
END:VEVENT
BEGIN:VEVENT
DTSTART;VALUE=DATE:20161116
DTEND;VALUE=DATE:20161117
DTSTAMP:20260423T131129
CREATED:20160213T181159Z
LAST-MODIFIED:20160213T181159Z
UID:1409-1479254400-1479340799@www.thehpl.org
SUMMARY:Volunteer Day\, 9 a.m. - 2 p.m.
DESCRIPTION:
URL:https://www.thehpl.org/event/volunteer-day-9-a-m-2-p-m-79/
END:VEVENT
BEGIN:VEVENT
DTSTART;VALUE=DATE:20161112
DTEND;VALUE=DATE:20161113
DTSTAMP:20260423T131129
CREATED:20160213T181047Z
LAST-MODIFIED:20160213T181047Z
UID:1407-1478908800-1478995199@www.thehpl.org
SUMMARY:Volunteer Day\, 9 a.m. - 2 p.m.
DESCRIPTION:
URL:https://www.thehpl.org/event/volunteer-day-9-a-m-2-p-m-77/
END:VEVENT
BEGIN:VEVENT
DTSTART;VALUE=DATE:20161109
DTEND;VALUE=DATE:20161110
DTSTAMP:20260423T131129
CREATED:20160213T181020Z
LAST-MODIFIED:20160213T181020Z
UID:1406-1478649600-1478735999@www.thehpl.org
SUMMARY:Volunteer Day\, 9 a.m. - 2 p.m.
DESCRIPTION:
URL:https://www.thehpl.org/event/volunteer-day-9-a-m-2-p-m-76/
END:VEVENT
BEGIN:VEVENT
DTSTART;VALUE=DATE:20161105
DTEND;VALUE=DATE:20161106
DTSTAMP:20260423T131129
CREATED:20160213T181128Z
LAST-MODIFIED:20160213T181128Z
UID:1408-1478304000-1478390399@www.thehpl.org
SUMMARY:Volunteer Day\, 9 a.m. - 2 p.m.
DESCRIPTION:
URL:https://www.thehpl.org/event/volunteer-day-9-a-m-2-p-m-78/
END:VEVENT
BEGIN:VEVENT
DTSTART;VALUE=DATE:20161102
DTEND;VALUE=DATE:20161103
DTSTAMP:20260423T131129
CREATED:20160213T180951Z
LAST-MODIFIED:20160213T180951Z
UID:1405-1478044800-1478131199@www.thehpl.org
SUMMARY:Volunteer Day\, 9 a.m. - 2 p.m.
DESCRIPTION:
URL:https://www.thehpl.org/event/volunteer-day-9-a-m-2-p-m-75/
END:VEVENT
BEGIN:VEVENT
DTSTART;VALUE=DATE:20161029
DTEND;VALUE=DATE:20161030
DTSTAMP:20260423T131129
CREATED:20160213T180908Z
LAST-MODIFIED:20160213T180908Z
UID:1404-1477699200-1477785599@www.thehpl.org
SUMMARY:Volunteer Day\, 9 a.m. - 2 p.m.
DESCRIPTION:
URL:https://www.thehpl.org/event/volunteer-day-9-a-m-2-p-m-74/
END:VEVENT
BEGIN:VEVENT
DTSTART;VALUE=DATE:20161026
DTEND;VALUE=DATE:20161027
DTSTAMP:20260423T131129
CREATED:20160213T180842Z
LAST-MODIFIED:20160213T180842Z
UID:1403-1477440000-1477526399@www.thehpl.org
SUMMARY:Volunteer Day\, 9 a.m. - 2 p.m.
DESCRIPTION:
URL:https://www.thehpl.org/event/volunteer-day-9-a-m-2-p-m-73/
END:VEVENT
BEGIN:VEVENT
DTSTART;VALUE=DATE:20161022
DTEND;VALUE=DATE:20161023
DTSTAMP:20260423T131129
CREATED:20160213T180810Z
LAST-MODIFIED:20160213T180810Z
UID:1402-1477094400-1477180799@www.thehpl.org
SUMMARY:Volunteer Day\, 9 a.m. - 2 p.m.
DESCRIPTION:
URL:https://www.thehpl.org/event/volunteer-day-9-a-m-2-p-m-72/
END:VEVENT
BEGIN:VEVENT
DTSTART;VALUE=DATE:20161019
DTEND;VALUE=DATE:20161020
DTSTAMP:20260423T131129
CREATED:20160213T180720Z
LAST-MODIFIED:20160213T180720Z
UID:1401-1476835200-1476921599@www.thehpl.org
SUMMARY:Volunteer Day\, 9 a.m. - 2 p.m.
DESCRIPTION:
URL:https://www.thehpl.org/event/volunteer-day-9-a-m-2-p-m-71/
END:VEVENT
BEGIN:VEVENT
DTSTART;VALUE=DATE:20161015
DTEND;VALUE=DATE:20161016
DTSTAMP:20260423T131129
CREATED:20160213T180632Z
LAST-MODIFIED:20160213T180632Z
UID:1400-1476489600-1476575999@www.thehpl.org
SUMMARY:Volunteer Day\, 9 a.m. - 2 p.m.
DESCRIPTION:
URL:https://www.thehpl.org/event/volunteer-day-9-a-m-2-p-m-70/
END:VEVENT
BEGIN:VEVENT
DTSTART;VALUE=DATE:20161012
DTEND;VALUE=DATE:20161013
DTSTAMP:20260423T131129
CREATED:20160213T180604Z
LAST-MODIFIED:20160213T180604Z
UID:1399-1476230400-1476316799@www.thehpl.org
SUMMARY:Volunteer Day\, 9 a.m. - 2 p.m.
DESCRIPTION:
URL:https://www.thehpl.org/event/volunteer-day-9-a-m-2-p-m-69/
END:VEVENT
BEGIN:VEVENT
DTSTART;VALUE=DATE:20161008
DTEND;VALUE=DATE:20161009
DTSTAMP:20260423T131129
CREATED:20160213T180512Z
LAST-MODIFIED:20160213T180512Z
UID:1398-1475884800-1475971199@www.thehpl.org
SUMMARY:Volunteer Day\, 9 a.m. - 2 p.m.
DESCRIPTION:
URL:https://www.thehpl.org/event/volunteer-day-9-a-m-2-p-m-68/
END:VEVENT
BEGIN:VEVENT
DTSTART;VALUE=DATE:20161007
DTEND;VALUE=DATE:20161009
DTSTAMP:20260423T131129
CREATED:20160213T171056Z
LAST-MODIFIED:20160213T171056Z
UID:1326-1475798400-1475971199@www.thehpl.org
SUMMARY:Fall Tack Sale
DESCRIPTION:
URL:https://www.thehpl.org/event/fall-tack-sale/
END:VEVENT
BEGIN:VEVENT
DTSTART;VALUE=DATE:20161005
DTEND;VALUE=DATE:20161006
DTSTAMP:20260423T131129
CREATED:20160213T180447Z
LAST-MODIFIED:20160213T180447Z
UID:1397-1475625600-1475711999@www.thehpl.org
SUMMARY:Volunteer Day\, 9 a.m. - 2 p.m.
DESCRIPTION:
URL:https://www.thehpl.org/event/volunteer-day-9-a-m-2-p-m-67/
END:VEVENT
BEGIN:VEVENT
DTSTART;VALUE=DATE:20161001
DTEND;VALUE=DATE:20161002
DTSTAMP:20260423T131129
CREATED:20160213T180032Z
LAST-MODIFIED:20160213T180032Z
UID:1396-1475280000-1475366399@www.thehpl.org
SUMMARY:Volunteer Day\, 9 a.m. - 2 p.m.
DESCRIPTION:
URL:https://www.thehpl.org/event/volunteer-day-9-a-m-2-p-m-66/
END:VEVENT
BEGIN:VEVENT
DTSTART;VALUE=DATE:20160928
DTEND;VALUE=DATE:20160929
DTSTAMP:20260423T131129
CREATED:20160213T175517Z
LAST-MODIFIED:20160213T175517Z
UID:1394-1475020800-1475107199@www.thehpl.org
SUMMARY:Volunteer Day\, 9 a.m. - 2 p.m.
DESCRIPTION:
URL:https://www.thehpl.org/event/volunteer-day-9-a-m-2-p-m-65/
END:VEVENT
END:VCALENDAR