BEGIN:VCALENDAR
VERSION:2.0
PRODID:-//The Horse Protection League - ECPv6.15.20//NONSGML v1.0//EN
CALSCALE:GREGORIAN
METHOD:PUBLISH
X-WR-CALNAME:The Horse Protection League
X-ORIGINAL-URL:https://www.thehpl.org
X-WR-CALDESC:Events for The Horse Protection League
REFRESH-INTERVAL;VALUE=DURATION:PT1H
X-Robots-Tag:noindex
X-PUBLISHED-TTL:PT1H
BEGIN:VTIMEZONE
TZID:America/Denver
BEGIN:DAYLIGHT
TZOFFSETFROM:-0700
TZOFFSETTO:-0600
TZNAME:MDT
DTSTART:20150308T090000
END:DAYLIGHT
BEGIN:STANDARD
TZOFFSETFROM:-0600
TZOFFSETTO:-0700
TZNAME:MST
DTSTART:20151101T080000
END:STANDARD
BEGIN:DAYLIGHT
TZOFFSETFROM:-0700
TZOFFSETTO:-0600
TZNAME:MDT
DTSTART:20160313T090000
END:DAYLIGHT
BEGIN:STANDARD
TZOFFSETFROM:-0600
TZOFFSETTO:-0700
TZNAME:MST
DTSTART:20161106T080000
END:STANDARD
BEGIN:DAYLIGHT
TZOFFSETFROM:-0700
TZOFFSETTO:-0600
TZNAME:MDT
DTSTART:20170312T090000
END:DAYLIGHT
BEGIN:STANDARD
TZOFFSETFROM:-0600
TZOFFSETTO:-0700
TZNAME:MST
DTSTART:20171105T080000
END:STANDARD
BEGIN:DAYLIGHT
TZOFFSETFROM:-0700
TZOFFSETTO:-0600
TZNAME:MDT
DTSTART:20180311T090000
END:DAYLIGHT
BEGIN:STANDARD
TZOFFSETFROM:-0600
TZOFFSETTO:-0700
TZNAME:MST
DTSTART:20181104T080000
END:STANDARD
BEGIN:DAYLIGHT
TZOFFSETFROM:-0700
TZOFFSETTO:-0600
TZNAME:MDT
DTSTART:20190310T090000
END:DAYLIGHT
BEGIN:STANDARD
TZOFFSETFROM:-0600
TZOFFSETTO:-0700
TZNAME:MST
DTSTART:20191103T080000
END:STANDARD
BEGIN:DAYLIGHT
TZOFFSETFROM:-0700
TZOFFSETTO:-0600
TZNAME:MDT
DTSTART:20200308T090000
END:DAYLIGHT
BEGIN:STANDARD
TZOFFSETFROM:-0600
TZOFFSETTO:-0700
TZNAME:MST
DTSTART:20201101T080000
END:STANDARD
BEGIN:DAYLIGHT
TZOFFSETFROM:-0700
TZOFFSETTO:-0600
TZNAME:MDT
DTSTART:20210314T090000
END:DAYLIGHT
BEGIN:STANDARD
TZOFFSETFROM:-0600
TZOFFSETTO:-0700
TZNAME:MST
DTSTART:20211107T080000
END:STANDARD
BEGIN:DAYLIGHT
TZOFFSETFROM:-0700
TZOFFSETTO:-0600
TZNAME:MDT
DTSTART:20220313T090000
END:DAYLIGHT
BEGIN:STANDARD
TZOFFSETFROM:-0600
TZOFFSETTO:-0700
TZNAME:MST
DTSTART:20221106T080000
END:STANDARD
BEGIN:DAYLIGHT
TZOFFSETFROM:-0700
TZOFFSETTO:-0600
TZNAME:MDT
DTSTART:20230312T090000
END:DAYLIGHT
BEGIN:STANDARD
TZOFFSETFROM:-0600
TZOFFSETTO:-0700
TZNAME:MST
DTSTART:20231105T080000
END:STANDARD
BEGIN:DAYLIGHT
TZOFFSETFROM:-0700
TZOFFSETTO:-0600
TZNAME:MDT
DTSTART:20240310T090000
END:DAYLIGHT
BEGIN:STANDARD
TZOFFSETFROM:-0600
TZOFFSETTO:-0700
TZNAME:MST
DTSTART:20241103T080000
END:STANDARD
BEGIN:DAYLIGHT
TZOFFSETFROM:-0700
TZOFFSETTO:-0600
TZNAME:MDT
DTSTART:20250309T090000
END:DAYLIGHT
BEGIN:STANDARD
TZOFFSETFROM:-0600
TZOFFSETTO:-0700
TZNAME:MST
DTSTART:20251102T080000
END:STANDARD
BEGIN:DAYLIGHT
TZOFFSETFROM:-0700
TZOFFSETTO:-0600
TZNAME:MDT
DTSTART:20260308T090000
END:DAYLIGHT
BEGIN:STANDARD
TZOFFSETFROM:-0600
TZOFFSETTO:-0700
TZNAME:MST
DTSTART:20261101T080000
END:STANDARD
END:VTIMEZONE
BEGIN:VEVENT
DTSTART;TZID=America/Denver:20250607T100000
DTEND;TZID=America/Denver:20250607T113000
DTSTAMP:20260423T152926
CREATED:20250511T213700Z
LAST-MODIFIED:20250511T213853Z
UID:8437-1749290400-1749295800@www.thehpl.org
SUMMARY:New Volunteer Orientation
DESCRIPTION:Join us to learn about volunteering at the HPL! We begin promptly at 10 and will run an hour and a half. Please dress for ranch work with closed toed shoes and long pants. Please sign up in advance by filling out the volunteer application found here: https://www.thehpl.org/volunteer-or-visit/
URL:https://www.thehpl.org/event/new-volunteer-orientation-2/
LOCATION:HPL Ranch\, 17999 W. 60th Ave.\, Arvada\, 80403\, United States
END:VEVENT
BEGIN:VEVENT
DTSTART;TZID=America/Denver:20250531T100000
DTEND;TZID=America/Denver:20250531T130000
DTSTAMP:20260423T152926
CREATED:20250410T204858Z
LAST-MODIFIED:20250410T204923Z
UID:8411-1748685600-1748696400@www.thehpl.org
SUMMARY:The HPL Spring Shred Event
DESCRIPTION:Get a jump on spring cleaning\, bring your old documents and papers to our Shred Event. HPL is teaming up with DocuVault for an on-site shredding event; space may be limited\, first come\, first served! \nThis event will be held at The Horse Protection League 17999 W. 60th Ave.\, Arvada\, CO 80403 from 10am to 1pm on May 31. \nThis is a free event\, although donations are greatly appreciated. All donations go directly to support our herd.
URL:https://www.thehpl.org/event/the-hpl-spring-shred-event/
LOCATION:HPL Ranch\, 17999 W. 60th Ave.\, Arvada\, 80403\, United States
CATEGORIES:Event,Fundraiser
END:VEVENT
BEGIN:VEVENT
DTSTART;TZID=America/Denver:20250425T100000
DTEND;TZID=America/Denver:20250425T160000
DTSTAMP:20260423T152926
CREATED:20250414T031530Z
LAST-MODIFIED:20250414T031530Z
UID:8414-1745575200-1745596800@www.thehpl.org
SUMMARY:Spring Tack Sale Hosted by The Grey Tail April 25 and 26
DESCRIPTION:Hosted by The Grey Tail\, we’ll have English\, Western\, and Dressage tack including saddles\, saddle pads\, bareback pads\, stirrup irons\, blankets\, bits\, nylon halters\, and lead ropes. We also have  leather chaps\, splint boots\, muck buckets\, plastic grooming totes\, polo wraps\, easy boots\, wood saddle stands\, riding clothes\, pannier bags\, boots\, and camping gear.   \nContact Franci with any questions at 303-570-4402 OR mtngirl09@gmail.com
URL:https://www.thehpl.org/event/spring-tack-sale-hosted-by-the-grey-tail-april-25-and-26/
LOCATION:HPL Ranch\, 17999 W. 60th Ave.\, Arvada\, 80403\, United States
END:VEVENT
BEGIN:VEVENT
DTSTART;TZID=America/Denver:20250301T100000
DTEND;TZID=America/Denver:20250301T140000
DTSTAMP:20260423T152926
CREATED:20250226T195145Z
LAST-MODIFIED:20250226T195145Z
UID:8339-1740823200-1740837600@www.thehpl.org
SUMMARY:THE HPL HOSTS FIRST PRESS DAY AT CHURCHES RANCH
DESCRIPTION:National Horse Protection Day is Saturday\, March 1\, 2025. Colorado’s Horse Protection League in Arvada will mark the occasion by opening its gates to media for an inside look at its daily efforts to protect the dignity of these historically significant equines. The Press Day will allow media opportunities to interview the officers and see our tremendous HPL volunteers in action\, and\, of course\, to meet the horses. The event kicks off at 10 a.m. Refreshments will be served. Media can call Kerry Gleason at (303) 565-6083 to participate. \nMedia are welcome other times throughout the year by appointment. If successful\, the March 1 HPL Press Day may become an annual event.
URL:https://www.thehpl.org/event/the-hpl-hosts-first-press-day-at-churches-ranch/
END:VEVENT
BEGIN:VEVENT
DTSTART;TZID=America/Denver:20241019T140000
DTEND;TZID=America/Denver:20241019T220000
DTSTAMP:20260423T152926
CREATED:20241008T022746Z
LAST-MODIFIED:20241008T022746Z
UID:8182-1729346400-1729375200@www.thehpl.org
SUMMARY:Harvest Fest
DESCRIPTION:Join us for a day of fun\, food\, and festivities! \nCome meet our horses and enjoy live music by The Humbuckers\, activities\, and fun for the whole family. There will be a selection of delicious food\, as well as local beer and beverages\, available for purchase. We will also be selling pumpkins for decoration grown on property in our very own garden! \nAttendance is free\, but donations are greatly appreciated! All proceeds will go directly to supporting our rescue horses. \nWe hope to see you there!
URL:https://www.thehpl.org/event/harvest-fest/
LOCATION:HPL Ranch\, 17999 W. 60th Ave.\, Arvada\, 80403\, United States
CATEGORIES:Event,Fundraiser
ATTACH;FMTTYPE=image/png:https://www.thehpl.org/wp-content/uploads/2024/10/Harvest_Fest_Flyer_Cropped.png
ORGANIZER;CN="The Horse Protection League":MAILTO:admin@thehorseprotectionleague.org
END:VEVENT
BEGIN:VEVENT
DTSTART;TZID=America/Denver:20241018T100000
DTEND;TZID=America/Denver:20241019T160000
DTSTAMP:20260423T152926
CREATED:20241008T041010Z
LAST-MODIFIED:20241008T180229Z
UID:8191-1729245600-1729353600@www.thehpl.org
SUMMARY:Fall Tack Sale
DESCRIPTION:Come check out our annual Fall Tack Sale! We are very excited to be partnering with The Grey Tail tack shop this year. You never know what you’ll find in our collection\, we have a little bit of everything. \nThe sale will last two days\, Friday and Saturday\, 10/18 – 10/19 at 10 am – 4 pm at the ranch. \nAll proceeds go directly to supporting our herd.
URL:https://www.thehpl.org/event/fall-tack-sale-2/
LOCATION:HPL Ranch\, 17999 W. 60th Ave.\, Arvada\, 80403\, United States
CATEGORIES:Fundraiser,Tack Sale
ORGANIZER;CN="The Horse Protection League":MAILTO:admin@thehorseprotectionleague.org
END:VEVENT
BEGIN:VEVENT
DTSTART;TZID=America/Denver:20240927T193000
DTEND;TZID=America/Denver:20240927T230000
DTSTAMP:20260423T152926
CREATED:20240827T161753Z
LAST-MODIFIED:20240827T161850Z
UID:8128-1727465400-1727478000@www.thehpl.org
SUMMARY:Movie Night - "Secretariat"
DESCRIPTION:Come enjoy an evening at the ranch and watch “Secretariat” with us and our herd! This will be our last movie night of the summer! \nGates open at 7:30 pm and the movie will begin at dusk\, about 8:30 pm. Come early to set up\, get a tour of the ranch\, and meet our herd. We will have concessions for sale\, including hot dogs\, popcorn\, candy\, and shaved ice! \nBring your own chairs or blankets and please leave pets at home. \nAttendance is free\, but donations are appreciated!
URL:https://www.thehpl.org/event/movie-night-secretariat/
LOCATION:HPL Ranch\, 17999 W. 60th Ave.\, Arvada\, 80403\, United States
CATEGORIES:Fundraiser
ATTACH;FMTTYPE=image/jpeg:https://www.thehpl.org/wp-content/uploads/2024/08/IMG_0715.jpg
ORGANIZER;CN="The Horse Protection League":MAILTO:admin@thehorseprotectionleague.org
END:VEVENT
BEGIN:VEVENT
DTSTART;TZID=America/Denver:20240914T180000
DTEND;TZID=America/Denver:20240914T210000
DTSTAMP:20260423T152926
CREATED:20240215T232445Z
LAST-MODIFIED:20240827T224140Z
UID:7556-1726336800-1726347600@www.thehpl.org
SUMMARY:30th Anniversary Celebration
DESCRIPTION:Come celebrate our history and horses with our volunteers\, neighbors\, and friends! \nThere will be a buffet dinner from Brad’s BBQ (vegetarian options available) and live music. Wine and beer will be available for purchase. All attendees will also get an HPL t-shirt! \nTickets are $50 for adults and $25 for children\, which will go towards supporting our herd. Tickets may be purchased via Venmo\, with “30th Anniversary” as the description\, or with checks made payable to The Horse Protection League. \nRSVP is required. Please RSVP at this link and include the method of payment for your ticket(s) and any dietary restrictions. \nIf you are unable to attend but would like to make a donation\, your support is greatly appreciated! All proceeds will go directly to support our herd.
URL:https://www.thehpl.org/event/30th-anniversary-celebration-2024/
LOCATION:HPL Ranch\, 17999 W. 60th Ave.\, Arvada\, 80403\, United States
CATEGORIES:Event,Fundraiser
ATTACH;FMTTYPE=image/jpeg:https://www.thehpl.org/wp-content/uploads/2024/01/2024galadiscoballs.jpg
ORGANIZER;CN="The Horse Protection League":MAILTO:admin@thehorseprotectionleague.org
END:VEVENT
BEGIN:VEVENT
DTSTART;TZID=America/Denver:20240830T193000
DTEND;TZID=America/Denver:20240830T230000
DTSTAMP:20260423T152926
CREATED:20240827T160159Z
LAST-MODIFIED:20240827T160159Z
UID:8124-1725046200-1725058800@www.thehpl.org
SUMMARY:Movie Night - "Spirit"
DESCRIPTION:Come enjoy an evening at the ranch and watch “Spirit” with us and our herd! \nGates open at 7:30 pm and the movie will begin at dusk\, about 8:30 pm. Come early to set up\, get a tour of the ranch\, and meet our herd. We will have concessions for sale\, including hot dogs\, popcorn\, candy\, and shaved ice! \nBring your own chairs or blankets and please leave pets at home. \nAttendance is free\, but donations are appreciated! \n 
URL:https://www.thehpl.org/event/movie-night-spirit/
LOCATION:HPL Ranch\, 17999 W. 60th Ave.\, Arvada\, 80403\, United States
CATEGORIES:Fundraiser
ATTACH;FMTTYPE=image/jpeg:https://www.thehpl.org/wp-content/uploads/2024/08/IMG_0715.jpg
ORGANIZER;CN="The Horse Protection League":MAILTO:admin@thehorseprotectionleague.org
END:VEVENT
BEGIN:VEVENT
DTSTART;VALUE=DATE:20240329
DTEND;VALUE=DATE:20240331
DTSTAMP:20260423T152926
CREATED:20240219T233146Z
LAST-MODIFIED:20240312T201452Z
UID:7607-1711670400-1711843199@www.thehpl.org
SUMMARY:Tack Sale\, March 29 and 30
DESCRIPTION:All proceeds to to supporting The Horse Protection League! \nAnnual Spring Tack Sale \nMarch 29th and 30th
URL:https://www.thehpl.org/event/tack-sale-march24/
LOCATION:HPL Ranch\, 17999 W. 60th Ave.\, Arvada\, 80403\, United States
CATEGORIES:Tack Sale
ATTACH;FMTTYPE=image/jpeg:https://www.thehpl.org/wp-content/uploads/2024/02/tacksale-hpl.jpg
ORGANIZER;CN="The Horse Protection League":MAILTO:admin@thehorseprotectionleague.org
END:VEVENT
BEGIN:VEVENT
DTSTART;VALUE=DATE:20231020
DTEND;VALUE=DATE:20231022
DTSTAMP:20260423T152926
CREATED:20230921T154332Z
LAST-MODIFIED:20240219T233020Z
UID:6742-1697760000-1697932799@www.thehpl.org
SUMMARY:Tack Sale\, October 20th\, 21st and 22nd
DESCRIPTION:All proceeds to to supporting the Horse Protection League! \nAnnual Fall Tack Sale \nOctober 20th\, 21st and 22nd \n 
URL:https://www.thehpl.org/event/tack-sale-2/
LOCATION:HPL Ranch\, 17999 W. 60th Ave.\, Arvada\, 80403\, United States
CATEGORIES:Tack Sale
ATTACH;FMTTYPE=image/jpeg:https://www.thehpl.org/wp-content/uploads/2023/09/tack-sale21.jpg
ORGANIZER;CN="The Horse Protection League":MAILTO:admin@thehorseprotectionleague.org
END:VEVENT
BEGIN:VEVENT
DTSTART;TZID=America/Denver:20230603T100000
DTEND;TZID=America/Denver:20230603T120000
DTSTAMP:20260423T152926
CREATED:20230531T143230Z
LAST-MODIFIED:20230531T144454Z
UID:6531-1685786400-1685793600@www.thehpl.org
SUMMARY:New Volunteer Orientation June 3rd
DESCRIPTION:New volunteer orientation is June 3\, 2023 \n10:00am – Noon \nContact Erin Quinn: secretary@thehorseprotectionleague.org for details.\n 
URL:https://www.thehpl.org/event/new-volunteer-orientation-june-3rd/
LOCATION:HPL Ranch\, 17999 W. 60th Ave.\, Arvada\, 80403\, United States
CATEGORIES:Volunteer
ATTACH;FMTTYPE=image/jpeg:https://www.thehpl.org/wp-content/uploads/2022/11/PB040004ac2-300x187-1.jpg
ORGANIZER;CN="The Horse Protection League":MAILTO:admin@thehorseprotectionleague.org
END:VEVENT
BEGIN:VEVENT
DTSTART;TZID=America/Denver:20230513T080000
DTEND;TZID=America/Denver:20230513T090000
DTSTAMP:20260423T152926
CREATED:20230508T200009Z
LAST-MODIFIED:20230508T203213Z
UID:6439-1683964800-1683968400@www.thehpl.org
SUMMARY:Horses\, Heads and Helmets
DESCRIPTION:Concussion Education and Helmet Fitting \nSponsored by Parker Health Foundation & Parker Adventist Hospital \nDid you know that riding a horse is 20x more dangerous than riding a motorcycle? \nOur program tackles myths\, discusses statistics about equestrian injuries\, and provides information on concussion and traumatic brain injuries so participants can make an informed decision about helmet use when riding a horse. \nScan the QR code to get your tickets\nTickets \n$10 for members\n$20 non-members \nHPL Members please obtain your coupon code by contacting  treasurer@thehorseprotectionleague.org. \nBleacher seating available\, participants receiving new riding helmets are limited to 40.  \nTickets are $25 at the door. \nDownload the flyer for full details >> \n 
URL:https://www.thehpl.org/event/horses-heads-and-helmets/
LOCATION:HPL Ranch\, 17999 W. 60th Ave.\, Arvada\, 80403\, United States
ATTACH;FMTTYPE=image/jpeg:https://www.thehpl.org/wp-content/uploads/2023/05/horsesheadshelmets.jpg
ORGANIZER;CN="The Horse Protection League":MAILTO:admin@thehorseprotectionleague.org
END:VEVENT
BEGIN:VEVENT
DTSTART;TZID=America/Denver:20230423T120000
DTEND;TZID=America/Denver:20230423T140000
DTSTAMP:20260423T152926
CREATED:20230329T194112Z
LAST-MODIFIED:20230329T201009Z
UID:6326-1682251200-1682258400@www.thehpl.org
SUMMARY:Beyond Riding- Groundwork for Equine Enrichment and Connection
DESCRIPTION:Join us as Jessica Dabkowski and her girl Friday conduct an educational clinic\, “Beyond Riding- Groundwork for Equine Enrichment and Connection.” \nThis educational program will be a demonstration and discussion on using liberty\, positive reinforcement\, and other groundwork to enrich the lives of non-riding horses and enhance the bond with their humans. Trainer\, Jessica Dabkowski of Pony Peak Stangmanship in Laporte\, Co\, focuses on natural horsemanship techniques while training mustangs and all breeds of horses. \nApril 23rd\, at noon\, at the historic Churches ranch in Arvada Colorado. Ticket prices are $10 members and $20 non-members\, children under 12 are free. \nThe Horse Protection League 17999 West 60th Avenue Arvada\, CO 80403 \nHPL Members please obtain your coupon code by contacting treasurer@thehorseprotectionleague.org. Bleacher seating available. Tickets are $25 at the door. \nRegister for this event here >>
URL:https://www.thehpl.org/event/beyond-riding-groundwork-for-equine-enrichment-and-connection/
LOCATION:HPL Ranch\, 17999 W. 60th Ave.\, Arvada\, 80403\, United States
CATEGORIES:Event
ATTACH;FMTTYPE=image/jpeg:https://www.thehpl.org/wp-content/uploads/2023/03/clip_image001.jpg
ORGANIZER;CN="The Horse Protection League":MAILTO:admin@thehorseprotectionleague.org
END:VEVENT
BEGIN:VEVENT
DTSTART;VALUE=DATE:20230310
DTEND;VALUE=DATE:20230312
DTSTAMP:20260423T152926
CREATED:20230301T224802Z
LAST-MODIFIED:20230301T224826Z
UID:6247-1678406400-1678579199@www.thehpl.org
SUMMARY:Tack Sale
DESCRIPTION:March 10-11\, 2023 \n9:00am to 4:00pm  \nSuper tack sale at The Horse Protection League Ranch \n17999 W 60th Ave\, Arvada\, CO 80403
URL:https://www.thehpl.org/event/tack-sale/
CATEGORIES:Fundraiser,Tack Sale
ATTACH;FMTTYPE=image/png:https://www.thehpl.org/wp-content/uploads/2023/03/PastedGraphic-1.png
ORGANIZER;CN="The Horse Protection League":MAILTO:admin@thehorseprotectionleague.org
END:VEVENT
BEGIN:VEVENT
DTSTART;TZID=America/Denver:20170428T180000
DTEND;TZID=America/Denver:20170428T220000
DTSTAMP:20260423T152926
CREATED:20170403T190933Z
LAST-MODIFIED:20170403T190933Z
UID:1771-1493402400-1493416800@www.thehpl.org
SUMMARY:Casino Night and Silent Auction
DESCRIPTION:
URL:https://www.thehpl.org/event/casino-night-and-silent-auction/
LOCATION:Table Mountain Inn\, 1310 Washington Ave. \, Golden\, CO\, United States
END:VEVENT
BEGIN:VEVENT
DTSTART;VALUE=DATE:20161231
DTEND;VALUE=DATE:20170101
DTSTAMP:20260423T152926
CREATED:20160213T182015Z
LAST-MODIFIED:20160213T182015Z
UID:1422-1483142400-1483228799@www.thehpl.org
SUMMARY:Volunteer Day\, 9 a.m. - 2 p.m.
DESCRIPTION:
URL:https://www.thehpl.org/event/volunteer-day-9-a-m-2-p-m-92/
END:VEVENT
BEGIN:VEVENT
DTSTART;VALUE=DATE:20161228
DTEND;VALUE=DATE:20161229
DTSTAMP:20260423T152926
CREATED:20160213T181942Z
LAST-MODIFIED:20160213T181942Z
UID:1421-1482883200-1482969599@www.thehpl.org
SUMMARY:Volunteer Day\, 9 a.m. - 2 p.m.
DESCRIPTION:
URL:https://www.thehpl.org/event/volunteer-day-9-a-m-2-p-m-91/
END:VEVENT
BEGIN:VEVENT
DTSTART;VALUE=DATE:20161224
DTEND;VALUE=DATE:20161225
DTSTAMP:20260423T152926
CREATED:20160213T181824Z
LAST-MODIFIED:20160213T181824Z
UID:1419-1482537600-1482623999@www.thehpl.org
SUMMARY:Volunteer Day\, 9 a.m. - 2 p.m.
DESCRIPTION:
URL:https://www.thehpl.org/event/volunteer-day-9-a-m-2-p-m-89/
END:VEVENT
BEGIN:VEVENT
DTSTART;VALUE=DATE:20161221
DTEND;VALUE=DATE:20161222
DTSTAMP:20260423T152926
CREATED:20160213T181913Z
LAST-MODIFIED:20160213T181913Z
UID:1420-1482278400-1482364799@www.thehpl.org
SUMMARY:Volunteer Day\, 9 a.m. - 2 p.m.
DESCRIPTION:
URL:https://www.thehpl.org/event/volunteer-day-9-a-m-2-p-m-90/
END:VEVENT
BEGIN:VEVENT
DTSTART;VALUE=DATE:20161217
DTEND;VALUE=DATE:20161218
DTSTAMP:20260423T152926
CREATED:20160213T181737Z
LAST-MODIFIED:20160213T181737Z
UID:1418-1481932800-1482019199@www.thehpl.org
SUMMARY:Volunteer Day\, 9 a.m. - 2 p.m.
DESCRIPTION:
URL:https://www.thehpl.org/event/volunteer-day-9-a-m-2-p-m-88/
END:VEVENT
BEGIN:VEVENT
DTSTART;VALUE=DATE:20161214
DTEND;VALUE=DATE:20161215
DTSTAMP:20260423T152926
CREATED:20160213T181708Z
LAST-MODIFIED:20160213T181708Z
UID:1417-1481673600-1481759999@www.thehpl.org
SUMMARY:Volunteer Day\, 9 a.m. - 2 p.m.
DESCRIPTION:
URL:https://www.thehpl.org/event/volunteer-day-9-a-m-2-p-m-87/
END:VEVENT
BEGIN:VEVENT
DTSTART;VALUE=DATE:20161213
DTEND;VALUE=DATE:20161214
DTSTAMP:20260423T152926
CREATED:20160213T171209Z
LAST-MODIFIED:20160213T171209Z
UID:1327-1481587200-1481673599@www.thehpl.org
SUMMARY:Colorado Gives Day
DESCRIPTION:
URL:https://www.thehpl.org/event/colorado-gives-day-2/
END:VEVENT
BEGIN:VEVENT
DTSTART;VALUE=DATE:20161210
DTEND;VALUE=DATE:20161211
DTSTAMP:20260423T152926
CREATED:20160213T181612Z
LAST-MODIFIED:20160213T181612Z
UID:1416-1481328000-1481414399@www.thehpl.org
SUMMARY:Volunteer Day\, 9 a.m. - 2 p.m.
DESCRIPTION:
URL:https://www.thehpl.org/event/volunteer-day-9-a-m-2-p-m-86/
END:VEVENT
BEGIN:VEVENT
DTSTART;VALUE=DATE:20161207
DTEND;VALUE=DATE:20161208
DTSTAMP:20260423T152926
CREATED:20160213T181544Z
LAST-MODIFIED:20160213T181544Z
UID:1415-1481068800-1481155199@www.thehpl.org
SUMMARY:Volunteer Day\, 9 a.m. - 2 p.m.
DESCRIPTION:
URL:https://www.thehpl.org/event/volunteer-day-9-a-m-2-p-m-85/
END:VEVENT
BEGIN:VEVENT
DTSTART;VALUE=DATE:20161203
DTEND;VALUE=DATE:20161204
DTSTAMP:20260423T152926
CREATED:20160213T181503Z
LAST-MODIFIED:20160213T181503Z
UID:1414-1480723200-1480809599@www.thehpl.org
SUMMARY:Volunteer Day\, 9 a.m. - 2 p.m.
DESCRIPTION:
URL:https://www.thehpl.org/event/volunteer-day-9-a-m-2-p-m-84/
END:VEVENT
BEGIN:VEVENT
DTSTART;VALUE=DATE:20161130
DTEND;VALUE=DATE:20161201
DTSTAMP:20260423T152926
CREATED:20160213T181411Z
LAST-MODIFIED:20160213T181411Z
UID:1413-1480464000-1480550399@www.thehpl.org
SUMMARY:Volunteer Day\, 9 a.m. - 2 p.m.
DESCRIPTION:
URL:https://www.thehpl.org/event/volunteer-day-9-a-m-2-p-m-83/
END:VEVENT
BEGIN:VEVENT
DTSTART;VALUE=DATE:20161126
DTEND;VALUE=DATE:20161127
DTSTAMP:20260423T152926
CREATED:20160213T181347Z
LAST-MODIFIED:20160213T181347Z
UID:1412-1480118400-1480204799@www.thehpl.org
SUMMARY:Volunteer Day\, 9 a.m. - 2 p.m.
DESCRIPTION:
URL:https://www.thehpl.org/event/volunteer-day-9-a-m-2-p-m-82/
END:VEVENT
BEGIN:VEVENT
DTSTART;VALUE=DATE:20161123
DTEND;VALUE=DATE:20161124
DTSTAMP:20260423T152926
CREATED:20160213T181319Z
LAST-MODIFIED:20160213T181319Z
UID:1411-1479859200-1479945599@www.thehpl.org
SUMMARY:Volunteer Day\, 9 a.m. - 2 p.m.
DESCRIPTION:
URL:https://www.thehpl.org/event/volunteer-day-9-a-m-2-p-m-81/
END:VEVENT
BEGIN:VEVENT
DTSTART;VALUE=DATE:20161119
DTEND;VALUE=DATE:20161120
DTSTAMP:20260423T152926
CREATED:20160213T181234Z
LAST-MODIFIED:20160213T181234Z
UID:1410-1479513600-1479599999@www.thehpl.org
SUMMARY:Volunteer Day\, 9 a.m. - 2 p.m.
DESCRIPTION:
URL:https://www.thehpl.org/event/volunteer-day-9-a-m-2-p-m-80/
END:VEVENT
END:VCALENDAR