BEGIN:VCALENDAR
VERSION:2.0
PRODID:-//The Horse Protection League - ECPv6.15.20//NONSGML v1.0//EN
CALSCALE:GREGORIAN
METHOD:PUBLISH
X-WR-CALNAME:The Horse Protection League
X-ORIGINAL-URL:https://www.thehpl.org
X-WR-CALDESC:Events for The Horse Protection League
REFRESH-INTERVAL;VALUE=DURATION:PT1H
X-Robots-Tag:noindex
X-PUBLISHED-TTL:PT1H
BEGIN:VTIMEZONE
TZID:America/Denver
BEGIN:DAYLIGHT
TZOFFSETFROM:-0700
TZOFFSETTO:-0600
TZNAME:MDT
DTSTART:20130310T090000
END:DAYLIGHT
BEGIN:STANDARD
TZOFFSETFROM:-0600
TZOFFSETTO:-0700
TZNAME:MST
DTSTART:20131103T080000
END:STANDARD
BEGIN:DAYLIGHT
TZOFFSETFROM:-0700
TZOFFSETTO:-0600
TZNAME:MDT
DTSTART:20140309T090000
END:DAYLIGHT
BEGIN:STANDARD
TZOFFSETFROM:-0600
TZOFFSETTO:-0700
TZNAME:MST
DTSTART:20141102T080000
END:STANDARD
BEGIN:DAYLIGHT
TZOFFSETFROM:-0700
TZOFFSETTO:-0600
TZNAME:MDT
DTSTART:20150308T090000
END:DAYLIGHT
BEGIN:STANDARD
TZOFFSETFROM:-0600
TZOFFSETTO:-0700
TZNAME:MST
DTSTART:20151101T080000
END:STANDARD
BEGIN:DAYLIGHT
TZOFFSETFROM:-0700
TZOFFSETTO:-0600
TZNAME:MDT
DTSTART:20160313T090000
END:DAYLIGHT
BEGIN:STANDARD
TZOFFSETFROM:-0600
TZOFFSETTO:-0700
TZNAME:MST
DTSTART:20161106T080000
END:STANDARD
BEGIN:DAYLIGHT
TZOFFSETFROM:-0700
TZOFFSETTO:-0600
TZNAME:MDT
DTSTART:20170312T090000
END:DAYLIGHT
BEGIN:STANDARD
TZOFFSETFROM:-0600
TZOFFSETTO:-0700
TZNAME:MST
DTSTART:20171105T080000
END:STANDARD
END:VTIMEZONE
BEGIN:VEVENT
DTSTART;VALUE=DATE:20160416
DTEND;VALUE=DATE:20160417
DTSTAMP:20260423T173423
CREATED:20160213T172803Z
LAST-MODIFIED:20160213T172803Z
UID:1346-1460764800-1460851199@www.thehpl.org
SUMMARY:Volunteer Day\, 9 a.m. - 2 p.m.
DESCRIPTION:
URL:https://www.thehpl.org/event/volunteer-day-9-a-m-2-p-m-17/
END:VEVENT
BEGIN:VEVENT
DTSTART;VALUE=DATE:20160413
DTEND;VALUE=DATE:20160414
DTSTAMP:20260423T173423
CREATED:20160213T172740Z
LAST-MODIFIED:20160213T172740Z
UID:1345-1460505600-1460591999@www.thehpl.org
SUMMARY:Volunteer Day\, 9 a.m. - 2 p.m.
DESCRIPTION:
URL:https://www.thehpl.org/event/volunteer-day-9-a-m-2-p-m-16/
END:VEVENT
BEGIN:VEVENT
DTSTART;VALUE=DATE:20160409
DTEND;VALUE=DATE:20160410
DTSTAMP:20260423T173423
CREATED:20160213T172714Z
LAST-MODIFIED:20160213T172714Z
UID:1344-1460160000-1460246399@www.thehpl.org
SUMMARY:Volunteer Day\, 9 a.m. - 2 p.m.
DESCRIPTION:
URL:https://www.thehpl.org/event/volunteer-day-9-a-m-2-p-m-15/
END:VEVENT
BEGIN:VEVENT
DTSTART;VALUE=DATE:20160406
DTEND;VALUE=DATE:20160407
DTSTAMP:20260423T173423
CREATED:20160213T172649Z
LAST-MODIFIED:20160213T172649Z
UID:1343-1459900800-1459987199@www.thehpl.org
SUMMARY:Volunteer Day\, 9 a.m. - 2 p.m.
DESCRIPTION:
URL:https://www.thehpl.org/event/volunteer-day-9-a-m-2-p-m-14/
END:VEVENT
BEGIN:VEVENT
DTSTART;VALUE=DATE:20160402
DTEND;VALUE=DATE:20160403
DTSTAMP:20260423T173423
CREATED:20160213T172623Z
LAST-MODIFIED:20160213T172623Z
UID:1342-1459555200-1459641599@www.thehpl.org
SUMMARY:Volunteer Day\, 9 a.m. - 2 p.m.
DESCRIPTION:
URL:https://www.thehpl.org/event/volunteer-day-9-a-m-2-p-m-13/
END:VEVENT
BEGIN:VEVENT
DTSTART;VALUE=DATE:20160330
DTEND;VALUE=DATE:20160331
DTSTAMP:20260423T173423
CREATED:20160213T172529Z
LAST-MODIFIED:20160213T172529Z
UID:1341-1459296000-1459382399@www.thehpl.org
SUMMARY:Volunteer Day\, 9 a.m. - 2 p.m.
DESCRIPTION:
URL:https://www.thehpl.org/event/volunteer-day-9-a-m-2-p-m-12/
END:VEVENT
BEGIN:VEVENT
DTSTART;TZID=America/Denver:20160326T120000
DTEND;TZID=America/Denver:20160326T150000
DTSTAMP:20260423T173423
CREATED:20160319T181650Z
LAST-MODIFIED:20160319T181650Z
UID:1464-1458993600-1459004400@www.thehpl.org
SUMMARY:Horse Care Clinic
DESCRIPTION:
URL:https://www.thehpl.org/event/horse-care-clinic/
END:VEVENT
BEGIN:VEVENT
DTSTART;VALUE=DATE:20160326
DTEND;VALUE=DATE:20160327
DTSTAMP:20260423T173423
CREATED:20160213T172504Z
LAST-MODIFIED:20160213T172504Z
UID:1340-1458950400-1459036799@www.thehpl.org
SUMMARY:Volunteer Day\, 9 a.m. - 2 p.m.
DESCRIPTION:
URL:https://www.thehpl.org/event/volunteer-day-9-a-m-2-p-m-11/
END:VEVENT
BEGIN:VEVENT
DTSTART;TZID=America/Denver:20160323T080000
DTEND;TZID=America/Denver:20160323T170000
DTSTAMP:20260423T173423
CREATED:20160213T172440Z
LAST-MODIFIED:20160213T172440Z
UID:1339-1458720000-1458752400@www.thehpl.org
SUMMARY:Volunteer Day\, 9 a.m. - 2 p.m.
DESCRIPTION:
URL:https://www.thehpl.org/event/volunteer-day-9-a-m-2-p-m-10/
END:VEVENT
BEGIN:VEVENT
DTSTART;VALUE=DATE:20160319
DTEND;VALUE=DATE:20160320
DTSTAMP:20260423T173423
CREATED:20160213T172416Z
LAST-MODIFIED:20160213T172416Z
UID:1338-1458345600-1458431999@www.thehpl.org
SUMMARY:Volunteer Day\, 9 a.m. - 2 p.m.
DESCRIPTION:
URL:https://www.thehpl.org/event/volunteer-day-9-a-m-2-p-m-9/
END:VEVENT
BEGIN:VEVENT
DTSTART;VALUE=DATE:20160316
DTEND;VALUE=DATE:20160317
DTSTAMP:20260423T173423
CREATED:20160213T172350Z
LAST-MODIFIED:20160213T172350Z
UID:1337-1458086400-1458172799@www.thehpl.org
SUMMARY:Volunteer Day\, 9 a.m. - 2 p.m.
DESCRIPTION:
URL:https://www.thehpl.org/event/volunteer-day-9-a-m-2-p-m-8/
END:VEVENT
BEGIN:VEVENT
DTSTART;VALUE=DATE:20160312
DTEND;VALUE=DATE:20160313
DTSTAMP:20260423T173423
CREATED:20160213T172326Z
LAST-MODIFIED:20160213T172326Z
UID:1336-1457740800-1457827199@www.thehpl.org
SUMMARY:Volunteer Day\, 9 a.m. - 2 p.m.
DESCRIPTION:
URL:https://www.thehpl.org/event/volunteer-day-9-a-m-2-p-m-7/
END:VEVENT
BEGIN:VEVENT
DTSTART;VALUE=DATE:20160309
DTEND;VALUE=DATE:20160310
DTSTAMP:20260423T173423
CREATED:20160213T172303Z
LAST-MODIFIED:20160213T172303Z
UID:1335-1457481600-1457567999@www.thehpl.org
SUMMARY:Volunteer Day\, 9 a.m. - 2 p.m.
DESCRIPTION:
URL:https://www.thehpl.org/event/volunteer-day-9-a-m-2-p-m-6/
END:VEVENT
BEGIN:VEVENT
DTSTART;VALUE=DATE:20160305
DTEND;VALUE=DATE:20160306
DTSTAMP:20260423T173423
CREATED:20160213T172235Z
LAST-MODIFIED:20160213T172235Z
UID:1334-1457136000-1457222399@www.thehpl.org
SUMMARY:Volunteer Day\, 9 a.m. - 2 p.m.
DESCRIPTION:
URL:https://www.thehpl.org/event/volunteer-day-9-a-m-2-p-m-5/
END:VEVENT
BEGIN:VEVENT
DTSTART;VALUE=DATE:20160304
DTEND;VALUE=DATE:20160306
DTSTAMP:20260423T173423
CREATED:20160213T170151Z
LAST-MODIFIED:20160213T170245Z
UID:1322-1457049600-1457222399@www.thehpl.org
SUMMARY:Spring Tack Sale
DESCRIPTION:
URL:https://www.thehpl.org/event/spring-tack-sale/
END:VEVENT
BEGIN:VEVENT
DTSTART;VALUE=DATE:20160302
DTEND;VALUE=DATE:20160303
DTSTAMP:20260423T173423
CREATED:20160213T172207Z
LAST-MODIFIED:20160213T172207Z
UID:1333-1456876800-1456963199@www.thehpl.org
SUMMARY:Volunteer Day\, 9 a.m. - 2 p.m.
DESCRIPTION:
URL:https://www.thehpl.org/event/volunteer-day-9-a-m-2-p-m-4/
END:VEVENT
BEGIN:VEVENT
DTSTART;VALUE=DATE:20160227
DTEND;VALUE=DATE:20160228
DTSTAMP:20260423T173423
CREATED:20160213T172110Z
LAST-MODIFIED:20160213T172110Z
UID:1332-1456531200-1456617599@www.thehpl.org
SUMMARY:Volunteer Day\, 9 a.m. - 2 p.m.
DESCRIPTION:
URL:https://www.thehpl.org/event/volunteer-day-9-a-m-2-p-m-3/
END:VEVENT
BEGIN:VEVENT
DTSTART;VALUE=DATE:20160224
DTEND;VALUE=DATE:20160225
DTSTAMP:20260423T173423
CREATED:20160213T172047Z
LAST-MODIFIED:20160213T172047Z
UID:1331-1456272000-1456358399@www.thehpl.org
SUMMARY:Volunteer Day\, 9 a.m. - 2 p.m.
DESCRIPTION:
URL:https://www.thehpl.org/event/volunteer-day-9-a-m-2-p-m-2/
END:VEVENT
BEGIN:VEVENT
DTSTART;VALUE=DATE:20160220
DTEND;VALUE=DATE:20160221
DTSTAMP:20260423T173423
CREATED:20160213T172017Z
LAST-MODIFIED:20160213T172017Z
UID:1330-1455926400-1456012799@www.thehpl.org
SUMMARY:Volunteer Day\, 9 a.m. - 2 p.m.
DESCRIPTION:
URL:https://www.thehpl.org/event/volunteer-day-9-a-m-2-p-m/
END:VEVENT
BEGIN:VEVENT
DTSTART;VALUE=DATE:20160217
DTEND;VALUE=DATE:20160218
DTSTAMP:20260423T173423
CREATED:20160213T171617Z
LAST-MODIFIED:20160213T171924Z
UID:1328-1455667200-1455753599@www.thehpl.org
SUMMARY:Volunteer Day\, 9 a.m. - 2 p.m.
DESCRIPTION:
URL:https://www.thehpl.org/event/volunteer-day-9-a-m-to-2-p-m/
END:VEVENT
BEGIN:VEVENT
DTSTART;VALUE=DATE:20150821
DTEND;VALUE=DATE:20150919
DTSTAMP:20260423T173423
CREATED:20150310T171200Z
LAST-MODIFIED:20150310T171200Z
UID:691-1440115200-1442620799@www.thehpl.org
SUMMARY:2015 Edyth Horton Art for Horses Exhibit
DESCRIPTION:
URL:https://www.thehpl.org/event/2015-edyth-horton-art-for-horses-exhibit/
LOCATION:Lakewood Cultural Center\, 470 S. Allison Parkway\, Lakewood\, 80226\, United States
END:VEVENT
BEGIN:VEVENT
DTSTART;TZID=America/Denver:20150620T180000
DTEND;TZID=America/Denver:20150620T220000
DTSTAMP:20260423T173423
CREATED:20150613T010322Z
LAST-MODIFIED:20150613T010322Z
UID:792-1434823200-1434837600@www.thehpl.org
SUMMARY:Hoedown for Horses!
DESCRIPTION:
URL:https://www.thehpl.org/event/hoedown-for-horses/
LOCATION:HPL Ranch\, 17999 W. 60th Ave.\, Arvada\, 80403\, United States
END:VEVENT
BEGIN:VEVENT
DTSTART;TZID=America/Denver:20150306T090000
DTEND;TZID=America/Denver:20150307T170000
DTSTAMP:20260423T173423
CREATED:20150224T234951Z
LAST-MODIFIED:20150224T234951Z
UID:675-1425632400-1425747600@www.thehpl.org
SUMMARY:Annual Tack Sale
DESCRIPTION:
URL:https://www.thehpl.org/event/annual-tack-sale/
LOCATION:HPL Ranch\, 17999 W. 60th Ave.\, Arvada\, 80403\, United States
END:VEVENT
BEGIN:VEVENT
DTSTART;TZID=America/Denver:20150207T180000
DTEND;TZID=America/Denver:20150207T220000
DTSTAMP:20260423T173423
CREATED:20141117T200842Z
LAST-MODIFIED:20141117T200842Z
UID:428-1423332000-1423346400@www.thehpl.org
SUMMARY:HPL Horse Lover's Ball
DESCRIPTION:
URL:https://www.thehpl.org/event/hpl-horse-lovers-ball/
LOCATION:Lakewood Elks Lodge\, 1455 Newland St.\, Lakewood\, CO\, United States
END:VEVENT
BEGIN:VEVENT
DTSTART;VALUE=DATE:20150110
DTEND;VALUE=DATE:20150126
DTSTAMP:20260423T173423
CREATED:20141117T200548Z
LAST-MODIFIED:20141117T200659Z
UID:426-1420848000-1422230399@www.thehpl.org
SUMMARY:National Western Stock Show
DESCRIPTION:
URL:https://www.thehpl.org/event/national-western-stock-show/
LOCATION:National Western Stock Show\, 4655 Humboldt St.\, Denver\, CO\, United States
END:VEVENT
BEGIN:VEVENT
DTSTART;TZID=America/Denver:20141231T090000
DTEND;TZID=America/Denver:20141231T140000
DTSTAMP:20260423T173423
CREATED:20141117T195046Z
LAST-MODIFIED:20141117T195046Z
UID:415-1420016400-1420034400@www.thehpl.org
SUMMARY:Open Volunteering Day
DESCRIPTION:
URL:https://www.thehpl.org/event/open-volunteering-day-10/
LOCATION:HPL Ranch\, 17999 W. 60th Ave.\, Arvada\, 80403\, United States
END:VEVENT
BEGIN:VEVENT
DTSTART;TZID=America/Denver:20141227T090000
DTEND;TZID=America/Denver:20141227T140000
DTSTAMP:20260423T173423
CREATED:20141117T195410Z
LAST-MODIFIED:20141117T195410Z
UID:419-1419670800-1419688800@www.thehpl.org
SUMMARY:Open Volunteering Day
DESCRIPTION:
URL:https://www.thehpl.org/event/open-volunteering-day-14/
LOCATION:HPL Ranch\, 17999 W. 60th Ave.\, Arvada\, 80403\, United States
END:VEVENT
BEGIN:VEVENT
DTSTART;TZID=America/Denver:20141224T090000
DTEND;TZID=America/Denver:20141224T150000
DTSTAMP:20260423T173423
CREATED:20141117T195336Z
LAST-MODIFIED:20141117T195336Z
UID:418-1419411600-1419433200@www.thehpl.org
SUMMARY:Open Volunteering Day
DESCRIPTION:
URL:https://www.thehpl.org/event/open-volunteering-day-13/
LOCATION:HPL Ranch\, 17999 W. 60th Ave.\, Arvada\, 80403\, United States
END:VEVENT
BEGIN:VEVENT
DTSTART;TZID=America/Denver:20141220T090000
DTEND;TZID=America/Denver:20141220T140000
DTSTAMP:20260423T173423
CREATED:20141117T195242Z
LAST-MODIFIED:20141117T195242Z
UID:417-1419066000-1419084000@www.thehpl.org
SUMMARY:Open Volunteering Day
DESCRIPTION:
URL:https://www.thehpl.org/event/open-volunteering-day-12/
LOCATION:HPL Ranch\, 17999 W. 60th Ave.\, Arvada\, 80403\, United States
END:VEVENT
BEGIN:VEVENT
DTSTART;TZID=America/Denver:20141220T090000
DTEND;TZID=America/Denver:20141220T140000
DTSTAMP:20260423T173423
CREATED:20141117T195206Z
LAST-MODIFIED:20141117T195206Z
UID:416-1419066000-1419084000@www.thehpl.org
SUMMARY:Open Volunteering Day
DESCRIPTION:
URL:https://www.thehpl.org/event/open-volunteering-day-11/
LOCATION:HPL Ranch\, 17999 W. 60th Ave.\, Arvada\, 80403\, United States
END:VEVENT
END:VCALENDAR