BEGIN:VCALENDAR
VERSION:2.0
PRODID:-//The Horse Protection League - ECPv6.15.20//NONSGML v1.0//EN
CALSCALE:GREGORIAN
METHOD:PUBLISH
X-ORIGINAL-URL:https://www.thehpl.org
X-WR-CALDESC:Events for The Horse Protection League
REFRESH-INTERVAL;VALUE=DURATION:PT1H
X-Robots-Tag:noindex
X-PUBLISHED-TTL:PT1H
BEGIN:VTIMEZONE
TZID:America/Denver
BEGIN:DAYLIGHT
TZOFFSETFROM:-0700
TZOFFSETTO:-0600
TZNAME:MDT
DTSTART:20250309T090000
END:DAYLIGHT
BEGIN:STANDARD
TZOFFSETFROM:-0600
TZOFFSETTO:-0700
TZNAME:MST
DTSTART:20251102T080000
END:STANDARD
BEGIN:DAYLIGHT
TZOFFSETFROM:-0700
TZOFFSETTO:-0600
TZNAME:MDT
DTSTART:20260308T090000
END:DAYLIGHT
BEGIN:STANDARD
TZOFFSETFROM:-0600
TZOFFSETTO:-0700
TZNAME:MST
DTSTART:20261101T080000
END:STANDARD
BEGIN:DAYLIGHT
TZOFFSETFROM:-0700
TZOFFSETTO:-0600
TZNAME:MDT
DTSTART:20270314T090000
END:DAYLIGHT
BEGIN:STANDARD
TZOFFSETFROM:-0600
TZOFFSETTO:-0700
TZNAME:MST
DTSTART:20271107T080000
END:STANDARD
END:VTIMEZONE
BEGIN:VEVENT
DTSTART;TZID=America/Denver:20260207T100000
DTEND;TZID=America/Denver:20260207T113000
DTSTAMP:20260423T095006
CREATED:20260108T024820Z
LAST-MODIFIED:20260108T024820Z
UID:8715-1770458400-1770463800@www.thehpl.org
SUMMARY:February New Volunteer Orientation
DESCRIPTION:Come join our volunteer crew! Volunteer days are every Wednesday and Saturday from 9am – 2pm\, volunteer orientation is required. Please head over to https://www.thehpl.org/volunteer-or-visit/ to fill out an application. Orientation is at the ranch from 10am to 11:30am. Dress for the weather and please wear closed toed boots/shoes. \nVolunteers muck pens\, scrub water tanks\, load hay\, and groom our horses. It is hard work but very rewarding!
URL:https://www.thehpl.org/event/february-new-volunteer-orientation/
LOCATION:HPL Ranch\, 17999 W. 60th Ave.\, Arvada\, 80403\, United States
END:VEVENT
BEGIN:VEVENT
DTSTART;TZID=America/Denver:20260307T100000
DTEND;TZID=America/Denver:20260307T113000
DTSTAMP:20260423T095006
CREATED:20260108T025017Z
LAST-MODIFIED:20260108T025017Z
UID:8717-1772877600-1772883000@www.thehpl.org
SUMMARY:March New Volunteer Orientation
DESCRIPTION:Come join our volunteer crew! Volunteer days are every Wednesday and Saturday from 9am – 2pm\, volunteer orientation is required. Please head over to https://www.thehpl.org/volunteer-or-visit/ to fill out an application. Orientation is at the ranch from 10am to 11:30am. Dress for the weather and please wear closed toed boots/shoes. \nVolunteers muck pens\, scrub water tanks\, load hay\, and groom our horses. It is hard work but very rewarding!
URL:https://www.thehpl.org/event/march-new-volunteer-orientation/
LOCATION:HPL Ranch\, 17999 W. 60th Ave.\, Arvada\, 80403\, United States
END:VEVENT
BEGIN:VEVENT
DTSTART;TZID=America/Denver:20260404T100000
DTEND;TZID=America/Denver:20260404T113000
DTSTAMP:20260423T095006
CREATED:20260108T025654Z
LAST-MODIFIED:20260108T025654Z
UID:8719-1775296800-1775302200@www.thehpl.org
SUMMARY:April New Volunteer Orientation
DESCRIPTION:Come join our volunteer crew! Volunteer days are every Wednesday and Saturday from 9am – 2pm\, volunteer orientation is required. Please head over to https://www.thehpl.org/volunteer-or-visit/ to fill out an application. Orientation is at the ranch from 10am to 11:30am. Dress for the weather and please wear closed toed boots/shoes. \nVolunteers muck pens\, scrub water tanks\, load hay\, and groom our horses. It is hard work but very rewarding!
URL:https://www.thehpl.org/event/april-new-volunteer-orientation/
LOCATION:HPL Ranch\, 17999 W. 60th Ave.\, Arvada\, 80403\, United States
END:VEVENT
BEGIN:VEVENT
DTSTART;TZID=America/Denver:20260412T150000
DTEND;TZID=America/Denver:20260412T170000
DTSTAMP:20260423T095006
CREATED:20260406T210251Z
LAST-MODIFIED:20260406T210251Z
UID:8905-1776006000-1776013200@www.thehpl.org
SUMMARY:Paint Your Pet
DESCRIPTION:We’re having a fun Paint Your Pet fundraiser at Barrels and Bottles Brewery in Golden. No experience is necessary\, the artist will provide everything you need. There are limited spaces available\, please call 720-346-8717 to sign up! Cost is $65 and part of the proceeds goes to caring for our herd.
URL:https://www.thehpl.org/event/paint-your-pet/
LOCATION:Barrels and Bottles\, 1055 Orchard Street\, Golden\, CO\, 80401\, United States
END:VEVENT
BEGIN:VEVENT
DTSTART;TZID=America/Denver:20260418T090000
DTEND;TZID=America/Denver:20260418T160000
DTSTAMP:20260423T095006
CREATED:20260319T021736Z
LAST-MODIFIED:20260319T021736Z
UID:8902-1776502800-1776528000@www.thehpl.org
SUMMARY:Spring Tack Sale
DESCRIPTION:The Horse Protection League Spring Tack Sale will be on Saturday\, April 18 from 9am – 4pm at The Grey Tail\, located in the ranch house at HPL. We’ll have Western\, English\, and Dressage saddles\, saddle pads\, bridles\, and bareback pads. Clothing and footwear will also be on sale as well as barn and grooming supplies. Come on in and stock up and support our herd!  \nIf you have any questions\, please contact Franci at 303-570-4402 or mtngirl09@gmail.com
URL:https://www.thehpl.org/event/spring-tack-sale-2/
LOCATION:HPL Ranch\, 17999 W. 60th Ave.\, Arvada\, 80403\, United States
ORGANIZER;CN="The Horse Protection League":MAILTO:admin@thehorseprotectionleague.org
END:VEVENT
BEGIN:VEVENT
DTSTART;TZID=America/Denver:20260502T100000
DTEND;TZID=America/Denver:20260502T113000
DTSTAMP:20260423T095006
CREATED:20260108T025839Z
LAST-MODIFIED:20260108T025839Z
UID:8721-1777716000-1777721400@www.thehpl.org
SUMMARY:May New Volunteer Orientation
DESCRIPTION:Come join our volunteer crew! Volunteer days are every Wednesday and Saturday from 9am – 2pm\, volunteer orientation is required. Please head over to https://www.thehpl.org/volunteer-or-visit/ to fill out an application. Orientation is at the ranch from 10am to 11:30am. Dress for the weather and please wear closed toed boots/shoes. \nVolunteers muck pens\, scrub water tanks\, load hay\, and groom our horses. It is hard work but very rewarding!
URL:https://www.thehpl.org/event/may-new-volunteer-orientation/
LOCATION:HPL Ranch\, 17999 W. 60th Ave.\, Arvada\, 80403\, United States
END:VEVENT
BEGIN:VEVENT
DTSTART;TZID=America/Denver:20260606T100000
DTEND;TZID=America/Denver:20260606T113000
DTSTAMP:20260423T095006
CREATED:20260406T210443Z
LAST-MODIFIED:20260406T210443Z
UID:8909-1780740000-1780745400@www.thehpl.org
SUMMARY:June New Volunteer Orientation
DESCRIPTION:Come join our volunteer crew! Volunteer days are every Wednesday and Saturday from 9am – 2pm\, volunteer orientation is required. Please head over to https://www.thehpl.org/volunteer-or-visit/ to fill out an application. Orientation is at the ranch from 10am to 11:30am. Dress for the weather and please wear closed toed boots/shoes. \nVolunteers muck pens\, scrub water tanks\, load hay\, and groom our horses. It is hard work but very rewarding!
URL:https://www.thehpl.org/event/june-new-volunteer-orientation/
LOCATION:HPL Ranch\, 17999 W. 60th Ave.\, Arvada\, 80403\, United States
END:VEVENT
END:VCALENDAR